BEGIN:VCALENDAR
VERSION:2.0
PRODID:-//setdance.net - ECPv6.15.16//NONSGML v1.0//EN
CALSCALE:GREGORIAN
METHOD:PUBLISH
X-ORIGINAL-URL:https://setdance.net
X-WR-CALDESC:Events for setdance.net
REFRESH-INTERVAL;VALUE=DURATION:PT1H
X-Robots-Tag:noindex
X-PUBLISHED-TTL:PT1H
BEGIN:VTIMEZONE
TZID:Europe/Berlin
BEGIN:DAYLIGHT
TZOFFSETFROM:+0100
TZOFFSETTO:+0200
TZNAME:CEST
DTSTART:20240331T010000
END:DAYLIGHT
BEGIN:STANDARD
TZOFFSETFROM:+0200
TZOFFSETTO:+0100
TZNAME:CET
DTSTART:20241027T010000
END:STANDARD
BEGIN:DAYLIGHT
TZOFFSETFROM:+0100
TZOFFSETTO:+0200
TZNAME:CEST
DTSTART:20250330T010000
END:DAYLIGHT
BEGIN:STANDARD
TZOFFSETFROM:+0200
TZOFFSETTO:+0100
TZNAME:CET
DTSTART:20251026T010000
END:STANDARD
BEGIN:DAYLIGHT
TZOFFSETFROM:+0100
TZOFFSETTO:+0200
TZNAME:CEST
DTSTART:20260329T010000
END:DAYLIGHT
BEGIN:STANDARD
TZOFFSETFROM:+0200
TZOFFSETTO:+0100
TZNAME:CET
DTSTART:20261025T010000
END:STANDARD
END:VTIMEZONE
BEGIN:VEVENT
DTSTART;TZID=Europe/Berlin:20250228T200000
DTEND;TZID=Europe/Berlin:20250302T153000
DTSTAMP:20260423T135140
CREATED:20240215T135550Z
LAST-MODIFIED:20241105T161649Z
UID:5544-1740772800-1740929400@setdance.net
SUMMARY:Erlangen 21st Irish Set Dance Weekend 2025
DESCRIPTION:Here we go again … 21 Years Erlangen Irish Set Dance Weekend! \n\n\nBeautiful\, spacious Redoutensaal is booked in the heart of Erlangen.\nPat Murphy is our tutor for 3 workshops and 3 ceilis.\n\n\n \nAnd NEW…for Erlangen 2025 THE ABBEY FOUR will play for 3 Ceilis…\nGer Murphy Keyboard\nAndrew O’Connell Fiddle\nHugh Kennedy Accordion\n            PLUS\nFrances Curran Banjo … should be great fun!\n\n\nCan’t wait to see you all again!\n\n \nNo registration\, pre-payment or cancellation fee … please feel free to let me know if you will join us.\nPlease pay 100 € cash on arrival.\n\n\n\n\n\n\n\n\n\n\n \nFriday: Welcome Ceili 8pm-11pm \nSaturday: Workshops 10am-12:30pm\, 2pm-4:30pm\nSaturday: CARNIVAL Ceili 8:30pm-12:00am\nThis year’s motto ” Red “\n\n\n\n \n\n\n\nSunday: Workshop 10am-12:00pm\nSunday: Farewell Ceili 12:30pm-3:30pm\n \n\n\n\nFor Friday & Saturday night legendary sessions\, pub Kulisse is happy to welcome us again!\n \nSunday: Chill Out in one of Erlangen’s coolest cozy Bar/Restaurant Zum Pleitegeier\, only 4 walking minutes from Redoutensaal. There is space enough for everyone to sit and chat\, space enough for dancing\, good food\, drinks and more. Musicians please bring your instruments! Doors will open around 5pm …. not to be missed!\n\n\n\n \nUpdates will be published here on this website.\n\n\n\n \nIf you like to have lunch on Saturday\, you can make a reservation in a restaurant or café of your choice in advance. Within 5 to 10 walking minutes you will find a wide selection of diverse options.\n\n\n \n\n\n\n\n\n\n\nA.B. Hotel close to venue offers a number of rooms with 2024 rates for weekend participants. Altstadthotel Grauer Wolf also offers nice rooms for set dancers. Please book early and refer to the 21st Erlangen Irish Set Dance Weekend. If you book Grauer Wolf online\, you need a discount code (Rabatt Code): please send me a private message and I will pass it on to you. Another nice hotel very close to the venue is Altmanns Stube. Many more hotels and a large number of restaurants close to the venue are in walking distance.\n\n\n\n \nParking: Theaterplatz close to Redoutensaal offers only a limited number of parking spots. More and long-term parking is available at a reasonable price at “Grossparkplatz” close to main train station\, about 10 walking minutes from venue. Prices and payment options: please use links.\nBus service: Linie 30 runs from Nuernberg Airport (NUE) to Erlangen “Arcaden” (town centre) every 20 minutes during the day and takes about 40 minutes\, price around 4 Euro\n \nThe organizer does not accept any liability.\n\n\n\n\n 
URL:https://setdance.net/event/erlangen-21st-irish-set-dance-weekend-2025/
LOCATION:Redoutensaal Erlangen\, Theaterplatz\, Erlangen\, Germany
CATEGORIES:Special
ATTACH;FMTTYPE=image/jpeg:https://setdance.net/wp-content/uploads/2024/02/25-Flyer.Abbey_.Four_.Website.adapted.jpg
ORGANIZER;CN="Andrea Forstner":MAILTO:andreaforstner@aol.com
END:VEVENT
END:VCALENDAR