BEGIN:VCALENDAR
VERSION:2.0
PRODID:-//setdance.net - ECPv6.15.16//NONSGML v1.0//EN
CALSCALE:GREGORIAN
METHOD:PUBLISH
X-WR-CALNAME:setdance.net
X-ORIGINAL-URL:https://setdance.net
X-WR-CALDESC:Events for setdance.net
REFRESH-INTERVAL;VALUE=DURATION:PT1H
X-Robots-Tag:noindex
X-PUBLISHED-TTL:PT1H
BEGIN:VTIMEZONE
TZID:Europe/Berlin
BEGIN:DAYLIGHT
TZOFFSETFROM:+0100
TZOFFSETTO:+0200
TZNAME:CEST
DTSTART:20250330T010000
END:DAYLIGHT
BEGIN:STANDARD
TZOFFSETFROM:+0200
TZOFFSETTO:+0100
TZNAME:CET
DTSTART:20251026T010000
END:STANDARD
BEGIN:DAYLIGHT
TZOFFSETFROM:+0100
TZOFFSETTO:+0200
TZNAME:CEST
DTSTART:20260329T010000
END:DAYLIGHT
BEGIN:STANDARD
TZOFFSETFROM:+0200
TZOFFSETTO:+0100
TZNAME:CET
DTSTART:20261025T010000
END:STANDARD
BEGIN:DAYLIGHT
TZOFFSETFROM:+0100
TZOFFSETTO:+0200
TZNAME:CEST
DTSTART:20270328T010000
END:DAYLIGHT
BEGIN:STANDARD
TZOFFSETFROM:+0200
TZOFFSETTO:+0100
TZNAME:CET
DTSTART:20271031T010000
END:STANDARD
END:VTIMEZONE
BEGIN:VEVENT
DTSTART;TZID=Europe/Berlin:20260705T140000
DTEND;TZID=Europe/Berlin:20260705T170000
DTSTAMP:20260423T153022
CREATED:20260216T080024Z
LAST-MODIFIED:20260401T062414Z
UID:7263-1783260000-1783270800@setdance.net
SUMMARY:Ceili & CD-Launch der Augusta Ceili Band in Erlangen im Saal des CVJM
DESCRIPTION:Die fantastische AUGUSTA Ceili Band stellt ihre neue CD in Erlangen vor! \nDer Saal des CVJM bietet das perfekte Ambiente für richtig gute Stimmung\, das Erlangen Irish Set Dance Weekend hat hier 2003 begonnen. Der einziartige Charakter des Raumes\, der perfekte Holzschwingboden und die fantastische Augusta weden uns dort richtig “Beine machen”! \nWir tanzen alle Sets\, die Ihr auf der dritten CD der Augusta findet und einige Sets mehr\, alle Sets calle ich für Euch\, jeder ist herzlich willkommen\, diesen wunderbaren Nachmittag zur den mitreißenden Tunes dieser tollen Musiker gemeinsam zu genießen! \nDie Sets\, die wir tanzen … Labasheeda\, Ballyvourney Jig\, Connemara\, West Kerry … Clare Orange&Green\, Skibbereen\, Rinkinstown\, Plain Reel Set  \nBitte meldet Euch bei mir via E Mail oder WhatsApp\, wenn Ihr an diesem Nachmittag dabei sein wollt\, danke. \nIm Anschluss an das Ceili gehen wir zum Chill Out in einen Biergarten. \nIn Reeltime\, Andrea \n  \n  \n  \n  \n 
URL:https://setdance.net/event/ceili-cd-launch-augusta-ceili-band-erlangen-im-grossen-saal-des-cvjm/
LOCATION:CVJM Erlangen\, Südliche Stadtmauerstr.21\, Erlangen\, 91054\, Germany
CATEGORIES:Regular
ATTACH;FMTTYPE=image/jpeg:https://setdance.net/wp-content/uploads/2026/02/Flyer.CVJM_.5.7.26.jpg
ORGANIZER;CN="Andrea Forstner":MAILTO:andreaforstner@aol.com
END:VEVENT
END:VCALENDAR